BEGIN:VCALENDAR
VERSION:2.0
PRODID:-//ChamberMaster//Event Calendar 2.0//EN
METHOD:PUBLISH
X-PUBLISHED-TTL:P3D
REFRESH-INTERVAL:P3D
CALSCALE:GREGORIAN
BEGIN:VEVENT
DTSTART:20230128T170000Z
DTEND:20230128T190000Z
X-MICROSOFT-CDO-ALLDAYEVENT:FALSE
SUMMARY:2023 Coffee with the Legislators January 28
DESCRIPTION:"Registration" is for businesses wanting to sponsor coffee and refreshments at $100 (one per event).  The event is otherwise free and open to the public!\n\n\n\nBe a part of the conversation! Join your fellow community members as they discuss important issues with local legislators at the Dickinson Public Library. We intend for Districts 36\, 37 & 39 to be represented. We will provide up to one hour for updates from our elected leaders\, and allow up to one hour for questions and comments from the public.
X-ALT-DESC;FMTTYPE=text/html:&quot\;Registration&quot\; is for businesses wanting to sponsor coffee and refreshments at $100 (one per event).&nbsp\; The event is otherwise free and open to the public!<br />\n<br />\nBe a part of the conversation! Join your fellow community members as they discuss important issues with local legislators at the Dickinson Public Library. We intend for Districts 36\, 37 &amp\; 39 to be represented. We will provide up to one hour for updates from our elected leaders\, and allow up to one hour for questions and comments from the public.
LOCATION:Dickinson Public Library 139 3rd Street West Dickinson\, ND 58601
UID:e.2594.4438
SEQUENCE:3
DTSTAMP:20260419T211023Z
URL:https://business.dickinsonchamber.org/events/details/2023-coffee-with-the-legislators-january-28-4438
END:VEVENT

END:VCALENDAR
