BEGIN:VCALENDAR
VERSION:2.0
PRODID:-//ChamberMaster//Event Calendar 2.0//EN
METHOD:PUBLISH
X-PUBLISHED-TTL:P3D
REFRESH-INTERVAL:P3D
CALSCALE:GREGORIAN
BEGIN:VEVENT
DTSTART:20241029T000000Z
DTEND:20241029T004500Z
X-MICROSOFT-CDO-ALLDAYEVENT:FALSE
SUMMARY:Adult Book Club: The Sun Down Motel
DESCRIPTION:Read the book The Sun Down Motel and come discuss it with other adults. The next month's selection will be announced at the monthly meeting. Book Club books are available at the Main Level Circulation desk!
X-ALT-DESC;FMTTYPE=text/html:Read the book The Sun Down Motel and come discuss it with other adults. The next month&rsquo\;s selection will be announced at the monthly meeting. Book Club books are available at the Main Level Circulation desk!
LOCATION:Dickinson Area Public Library Community Room 139 3rd Street West
UID:e.2594.7734
SEQUENCE:3
DTSTAMP:20260423T191043Z
URL:https://business.dickinsonchamber.org/events/details/adult-book-club-the-sun-down-motel-7734
END:VEVENT

END:VCALENDAR
