BEGIN:VCALENDAR
VERSION:2.0
PRODID:-//ChamberMaster//Event Calendar 2.0//EN
METHOD:PUBLISH
X-PUBLISHED-TTL:P3D
REFRESH-INTERVAL:P3D
CALSCALE:GREGORIAN
BEGIN:VEVENT
DTSTART:20240214T010000Z
DTEND:20240214T014500Z
X-MICROSOFT-CDO-ALLDAYEVENT:FALSE
SUMMARY:Adulting 101: Investing for Retirement
DESCRIPTION:Halle and Kai Bertilrud\, financial advisors from Thrivent\, will be talking about investing and how to set yourself up for retirement!
X-ALT-DESC;FMTTYPE=text/html:Halle and Kai Bertilrud\, financial advisors from Thrivent\, will be talking about investing and how to set yourself up for retirement!
LOCATION:Dickinson Area Public Library Community Room 139 3rd Street
UID:e.2594.6972
SEQUENCE:3
DTSTAMP:20260421T085038Z
URL:https://business.dickinsonchamber.org/events/details/adulting-101-investing-for-retirement-6972
END:VEVENT

END:VCALENDAR
