BEGIN:VCALENDAR
VERSION:2.0
PRODID:-//ChamberMaster//Event Calendar 2.0//EN
METHOD:PUBLISH
X-PUBLISHED-TTL:P3D
REFRESH-INTERVAL:P3D
CALSCALE:GREGORIAN
BEGIN:VEVENT
DTSTART:20230122T233000Z
DTEND:20230123T010000Z
X-MICROSOFT-CDO-ALLDAYEVENT:FALSE
SUMMARY:Candlelight Vigil for Life
DESCRIPTION:
X-ALT-DESC;FMTTYPE=text/html:
LOCATION:Garvin Hall 310 2nd St. W\, Dickinson\, ND
UID:e.2594.4468
SEQUENCE:3
DTSTAMP:20260419T193912Z
URL:https://business.dickinsonchamber.org/events/details/candlelight-vigil-for-life-4468
END:VEVENT

END:VCALENDAR
