BEGIN:VCALENDAR
VERSION:2.0
PRODID:-//ChamberMaster//Event Calendar 2.0//EN
METHOD:PUBLISH
X-PUBLISHED-TTL:P3D
REFRESH-INTERVAL:P3D
CALSCALE:GREGORIAN
BEGIN:VEVENT
DTSTART:20230117T151500Z
DTEND:20230117T230000Z
X-MICROSOFT-CDO-ALLDAYEVENT:FALSE
SUMMARY:DDD Diversity Direction & Dollars
DESCRIPTION:26th Ag. Forum
X-ALT-DESC;FMTTYPE=text/html:26th Ag. Forum
LOCATION:Stark County Family & Ag Resource Campus\, Dakota Room\, 2680 Empire Road\, Suite C\, Dickinson\, ND
UID:e.2594.4444
SEQUENCE:3
DTSTAMP:20260419T193648Z
URL:https://business.dickinsonchamber.org/events/details/ddd-diversity-direction-dollars-4444
END:VEVENT

END:VCALENDAR
