BEGIN:VCALENDAR
VERSION:2.0
PRODID:-//ChamberMaster//Event Calendar 2.0//EN
METHOD:PUBLISH
X-PUBLISHED-TTL:P3D
REFRESH-INTERVAL:P3D
CALSCALE:GREGORIAN
BEGIN:VEVENT
DTSTART:20251005T190000Z
DTEND:20251005T210000Z
X-MICROSOFT-CDO-ALLDAYEVENT:FALSE
SUMMARY:Fall Cottage Open House
DESCRIPTION:Step into your next chapter at our Fall Cottage Open House! Discover the ease of independent living in our charming\, low-maintenance cottages. Tour a variety of beautiful floor plans\, each designed for comfort and convenience. While you explore\, enjoy some fall-themed refreshments\, and learn how you can embrace a maintenance-free lifestyle. Join us and see how effortless and enjoyable your new home can be.
X-ALT-DESC;FMTTYPE=text/html:Step into your next chapter at our Fall Cottage Open House! Discover the ease of independent living in our charming\, low-maintenance cottages. Tour a variety of beautiful floor plans\, each designed for comfort and convenience. While you explore\, enjoy some fall-themed refreshments\, and learn how you can embrace a maintenance-free lifestyle. Join us and see how effortless and enjoyable your new home can be.
LOCATION:Edgewood Hawks Point 1266 Signal Butte Dickinson\, ND 58601 (follow the signs!)
UID:e.2594.8425
SEQUENCE:3
DTSTAMP:20260419T235710Z
URL:https://business.dickinsonchamber.org/events/details/fall-cottage-open-house-8425
END:VEVENT

END:VCALENDAR
