BEGIN:VCALENDAR
VERSION:2.0
PRODID:-//ChamberMaster//Event Calendar 2.0//EN
METHOD:PUBLISH
X-PUBLISHED-TTL:P3D
REFRESH-INTERVAL:P3D
CALSCALE:GREGORIAN
BEGIN:VEVENT
DTSTART:20241103T010000Z
DTEND:20241103T040000Z
X-MICROSOFT-CDO-ALLDAYEVENT:FALSE
SUMMARY:Family Comedy Night
DESCRIPTION:Featuring comedian Mickey Bell (opened for Unspoken last year at Praise in the Badlands). Night of laughs for the entire family. Tickets on sale online now. Tickets will also be on sale at the station in September. This event is a fundraiser for The Connection. Tickets on sale online: https://www.tix.com/ticket-sales/1037theconnection/7120/event/1392583 Tickets will be available to purchase at The Connection's office in September.
X-ALT-DESC;FMTTYPE=text/html:Featuring comedian Mickey Bell (opened for Unspoken last year at Praise in the Badlands). Night of laughs for the entire family. Tickets on sale online now. Tickets will also be on sale at the station in September. This event is a fundraiser for The Connection. Tickets on sale online: https://www.tix.com/ticket-sales/1037theconnection/7120/event/1392583 Tickets will be available to purchase at The Connection&#39\;s office in September.
LOCATION:DSU Student Center
UID:e.2594.7697
SEQUENCE:3
DTSTAMP:20260421T230730Z
URL:https://business.dickinsonchamber.org/events/details/family-comedy-night-7697
END:VEVENT

END:VCALENDAR
