BEGIN:VCALENDAR
VERSION:2.0
PRODID:-//ChamberMaster//Event Calendar 2.0//EN
METHOD:PUBLISH
X-PUBLISHED-TTL:P3D
REFRESH-INTERVAL:P3D
CALSCALE:GREGORIAN
BEGIN:VEVENT
DTSTART:20230110T230000Z
DTEND:20230111T010000Z
X-MICROSOFT-CDO-ALLDAYEVENT:FALSE
SUMMARY:Holiday Open House
DESCRIPTION:
X-ALT-DESC;FMTTYPE=text/html:
LOCATION:314 3rd Ave W\, Dickinson\, ND
UID:e.2594.4368
SEQUENCE:3
DTSTAMP:20260419T194153Z
URL:https://business.dickinsonchamber.org/events/details/holiday-open-house-12-16-2022-4368
END:VEVENT

END:VCALENDAR
