BEGIN:VCALENDAR
VERSION:2.0
PRODID:-//ChamberMaster//Event Calendar 2.0//EN
METHOD:PUBLISH
X-PUBLISHED-TTL:P3D
REFRESH-INTERVAL:P3D
CALSCALE:GREGORIAN
BEGIN:VEVENT
DTSTART:20251126T190000Z
DTEND:20251126T200000Z
X-MICROSOFT-CDO-ALLDAYEVENT:FALSE
SUMMARY:Lunch & Learn: Veterans Benefits
DESCRIPTION:We are happy to welcome back Jessica McClellan from the Stark County Veterans Service Office! Jessica is the Stark County Veterans Service Officer\, and she will talk about Veterans Benefits! She will cover everything from vocational rehabilitation\, VA home loans\, education\, and more! Lunch will be provided\, but an RSVP is required.
X-ALT-DESC;FMTTYPE=text/html:We are happy to welcome back Jessica McClellan from the Stark County Veterans Service Office! Jessica is the Stark County Veterans Service Officer\, and she will talk about Veterans Benefits! She will cover everything from vocational rehabilitation\, VA home loans\, education\, and more! Lunch will be provided\, but an RSVP is required.
LOCATION:Edgewood Hawks Point 1266 Signal Butte Dickinson\, ND 58601
UID:e.2594.8429
SEQUENCE:3
DTSTAMP:20260419T230907Z
URL:https://business.dickinsonchamber.org/events/details/lunch-learn-veterans-benefits-8429
END:VEVENT

END:VCALENDAR
