BEGIN:VCALENDAR
VERSION:2.0
PRODID:-//ChamberMaster//Event Calendar 2.0//EN
METHOD:PUBLISH
X-PUBLISHED-TTL:P3D
REFRESH-INTERVAL:P3D
CALSCALE:GREGORIAN
BEGIN:VEVENT
DTSTART:20230121T010000Z
DTEND:20230121T040000Z
X-MICROSOFT-CDO-ALLDAYEVENT:FALSE
SUMMARY:Parent's Night Out
DESCRIPTION:Session includes pizza dinner\, play\, crafts & snacks. All ages welcome. Sibling discount available. Book all year in advance!
X-ALT-DESC;FMTTYPE=text/html:Session includes pizza dinner\, play\, crafts &amp\; snacks. All ages welcome. Sibling discount available. Book all year in advance!
LOCATION:BackYard play cafe'
UID:e.2594.2429
SEQUENCE:3
DTSTAMP:20260419T194030Z
URL:https://business.dickinsonchamber.org/events/details/parent-s-night-out-01-20-2023-2429
END:VEVENT

END:VCALENDAR
