BEGIN:VCALENDAR
VERSION:2.0
PRODID:-//ChamberMaster//Event Calendar 2.0//EN
METHOD:PUBLISH
X-PUBLISHED-TTL:P3D
REFRESH-INTERVAL:P3D
CALSCALE:GREGORIAN
BEGIN:VEVENT
DTSTART:20230111T010000Z
DTEND:20230111T030000Z
X-MICROSOFT-CDO-ALLDAYEVENT:FALSE
SUMMARY:Prairie Rose Chorus
DESCRIPTION:Proud member Sweet Adelines International
X-ALT-DESC;FMTTYPE=text/html:Proud member Sweet Adelines International
LOCATION:St. John Lutheran Church basement
UID:e.2594.1837
SEQUENCE:3
DTSTAMP:20260419T193902Z
URL:https://business.dickinsonchamber.org/events/details/prairie-rose-chorus-01-10-2023-1837
END:VEVENT

END:VCALENDAR
