BEGIN:VCALENDAR
VERSION:2.0
PRODID:-//ChamberMaster//Event Calendar 2.0//EN
METHOD:PUBLISH
X-PUBLISHED-TTL:P3D
REFRESH-INTERVAL:P3D
CALSCALE:GREGORIAN
BEGIN:VEVENT
DTSTART;VALUE=DATE:20230112
DTEND;VALUE=DATE:20230113
TRANSP:TRANSPARENT
X-MICROSOFT-CDO-ALLDAYEVENT:TRUE
SUMMARY:Southwest Area HR Association
DESCRIPTION:Seek Greater Potential.  Speaker:  Ellie Papineau\, Aspire LLC.  Topic:  Communication and connection with DISC
X-ALT-DESC;FMTTYPE=text/html:Seek Greater Potential.&nbsp\; Speaker:&nbsp\; Ellie Papineau\, Aspire LLC.&nbsp\; Topic:&nbsp\; Communication and connection with DISC
LOCATION:
UID:e.2594.2098
SEQUENCE:3
DTSTAMP:20260419T194203Z
URL:https://business.dickinsonchamber.org/events/details/southwest-area-hr-association-01-12-2023-2098
END:VEVENT

END:VCALENDAR
