BEGIN:VCALENDAR
VERSION:2.0
PRODID:-//ChamberMaster//Event Calendar 2.0//EN
METHOD:PUBLISH
X-PUBLISHED-TTL:P3D
REFRESH-INTERVAL:P3D
CALSCALE:GREGORIAN
BEGIN:VEVENT
DTSTART:20230112T150000Z
DTEND:20230112T160000Z
X-MICROSOFT-CDO-ALLDAYEVENT:FALSE
SUMMARY:Start-up Your Day
DESCRIPTION:
X-ALT-DESC;FMTTYPE=text/html:
LOCATION:Stark County Veterans Pavilion
UID:e.2594.4504
SEQUENCE:3
DTSTAMP:20260419T210743Z
URL:https://business.dickinsonchamber.org/events/details/start-up-your-day-01-12-2023-4504
END:VEVENT

END:VCALENDAR
