BEGIN:VCALENDAR
VERSION:2.0
PRODID:-//ChamberMaster//Event Calendar 2.0//EN
METHOD:PUBLISH
X-PUBLISHED-TTL:P3D
REFRESH-INTERVAL:P3D
CALSCALE:GREGORIAN
BEGIN:VEVENT
DTSTART:20230127T153000Z
DTEND:20230127T191500Z
X-MICROSOFT-CDO-ALLDAYEVENT:FALSE
SUMMARY:STEM day
DESCRIPTION:
X-ALT-DESC;FMTTYPE=text/html:
LOCATION:Lincoln Elementary\, Dickinson\, ND
UID:e.2594.4529
SEQUENCE:3
DTSTAMP:20260419T193205Z
URL:https://business.dickinsonchamber.org/events/details/stem-day-01-27-2023-4529
END:VEVENT

END:VCALENDAR
