BEGIN:VCALENDAR
VERSION:2.0
PRODID:-//ChamberMaster//Event Calendar 2.0//EN
METHOD:PUBLISH
X-PUBLISHED-TTL:P3D
REFRESH-INTERVAL:P3D
CALSCALE:GREGORIAN
BEGIN:VEVENT
DTSTART:20230121T180000Z
DTEND:20230121T200000Z
X-MICROSOFT-CDO-ALLDAYEVENT:FALSE
SUMMARY:Teddy Bear Party
DESCRIPTION:
X-ALT-DESC;FMTTYPE=text/html:
LOCATION:Dickinson\, ND Armory
UID:e.2594.4443
SEQUENCE:3
DTSTAMP:20260419T193016Z
URL:https://business.dickinsonchamber.org/events/details/teddy-bear-party-4443
END:VEVENT

END:VCALENDAR
