BEGIN:VCALENDAR
VERSION:2.0
PRODID:-//ChamberMaster//Event Calendar 2.0//EN
METHOD:PUBLISH
X-PUBLISHED-TTL:P3D
REFRESH-INTERVAL:P3D
CALSCALE:GREGORIAN
BEGIN:VEVENT
DTSTART:20230121T160000Z
DTEND:20230121T210000Z
X-MICROSOFT-CDO-ALLDAYEVENT:FALSE
SUMMARY:The Engagement Project
DESCRIPTION:
X-ALT-DESC;FMTTYPE=text/html:
LOCATION:Evangelical Bible Church\, Dickinson\, ND
UID:e.2594.4528
SEQUENCE:3
DTSTAMP:20260419T210517Z
URL:https://business.dickinsonchamber.org/events/details/the-engagement-project-4528
END:VEVENT

END:VCALENDAR
