BEGIN:VCALENDAR
VERSION:2.0
PRODID:-//ChamberMaster//Event Calendar 2.0//EN
METHOD:PUBLISH
X-PUBLISHED-TTL:P3D
REFRESH-INTERVAL:P3D
CALSCALE:GREGORIAN
BEGIN:VEVENT
DTSTART:20230111T160000Z
DTEND:20230111T200000Z
X-MICROSOFT-CDO-ALLDAYEVENT:FALSE
SUMMARY:Transforming Workplace Relationships
DESCRIPTION:
X-ALT-DESC;FMTTYPE=text/html:
LOCATION:Downtown Bravera Conference Room\, 220 1st Ave W\, Dickinson\, ND
UID:e.2594.4370
SEQUENCE:3
DTSTAMP:20260419T210437Z
URL:https://business.dickinsonchamber.org/events/details/transforming-workplace-relationships-4370
END:VEVENT

END:VCALENDAR
