BEGIN:VCALENDAR
VERSION:2.0
PRODID:-//ChamberMaster//Event Calendar 2.0//EN
METHOD:PUBLISH
X-PUBLISHED-TTL:P3D
REFRESH-INTERVAL:P3D
CALSCALE:GREGORIAN
BEGIN:VEVENT
DTSTART:20230124T023000Z
DTEND:20230124T040000Z
X-MICROSOFT-CDO-ALLDAYEVENT:FALSE
SUMMARY:Travis Anderson Trio
DESCRIPTION:Travis Anderson Trio\n\nJazz up your evening plans on Monday\, January 23\, 2023 at 7:30 PM as The Travis Anderson Trio\n\ncomes to Trinity High School Auditorium. Please note the change of venue for this concert. The\n\nDickinson Area Concert Association is thrilled to add this lively jazz trio to the 2022-23 concert\n\nseason.\n\nTravis Anderson Trio is a Minneapolis-based ensemble giving a modern twist to classic jazz and\n\npops favorites. Led by fleet-fingered pianist Travis Anderson\, this creative ensemble will bring\n\nmany smiles to your face with a familiar program of 60s' T.V. theme music\, Disney &amp\; pops/jazz\n\nstandards. Steve Pikal\, the first-call bassist of the Twin Cities\, lays down a great bass line.\n\nDrummer Nathan Norman is a smooth and sensitive player who adds many interesting colors to\n\nthe beat. Travis Anderson\, a mainstay on the local jazz scene for over fifteen years\, has wowed\n\naudiences everywhere from intimate jazz clubs to 2\,000-seat halls. The Travis Anderson Trio's\n\ndynamic style charms both seasoned connoisseurs and jazz newcomers alike.\n\nFor season ticket information please contact Dickinson Area Concert Association at 227-1673.\n\nTickets are available for $30 for adults and $10 for students and by Community Concert\n\nmembership.
X-ALT-DESC;FMTTYPE=text/html:<div><strong><span style="font-size:14.0pt\;">Travis Anderson Trio</span></strong><br />\nJazz up your evening plans on Monday\, January 23\, 2023 at 7:30 PM as The Travis Anderson Trio<br />\ncomes to Trinity High School Auditorium. Please note the change of venue for this concert. The<br />\nDickinson Area Concert Association is thrilled to add this lively jazz trio to the 2022-23 concert<br />\nseason.<br />\nTravis Anderson Trio is a Minneapolis-based ensemble giving a modern twist to classic jazz and<br />\npops favorites. Led by fleet-fingered pianist Travis Anderson\, this creative ensemble will bring<br />\nmany smiles to your face with a familiar program of 60s&rsquo\; T.V. theme music\, Disney &amp\;amp\; pops/jazz<br />\nstandards. Steve Pikal\, the first-call bassist of the Twin Cities\, lays down a great bass line.<br />\nDrummer Nathan Norman is a smooth and sensitive player who adds many interesting colors to<br />\nthe beat. Travis Anderson\, a mainstay on the local jazz scene for over fifteen years\, has wowed<br />\naudiences everywhere from intimate jazz clubs to 2\,000-seat halls. The Travis Anderson Trio&rsquo\;s<br />\ndynamic style charms both seasoned connoisseurs and jazz newcomers alike.<br />\nFor season ticket information please contact Dickinson Area Concert Association at 227-1673.<br />\nTickets are available for $30 for adults and $10 for students and by Community Concert<br />\nmembership.</div>\n
LOCATION:Trinity High School Auditorium\, Dickinson\, ND
UID:e.2594.2503
SEQUENCE:3
DTSTAMP:20260419T210552Z
URL:https://business.dickinsonchamber.org/events/details/travis-anderson-trio-2503
END:VEVENT

END:VCALENDAR
