BEGIN:VCALENDAR
VERSION:2.0
PRODID:-//ChamberMaster//Event Calendar 2.0//EN
METHOD:PUBLISH
X-PUBLISHED-TTL:P3D
REFRESH-INTERVAL:P3D
CALSCALE:GREGORIAN
BEGIN:VEVENT
DTSTART:20230114T170000Z
DTEND:20230121T110000Z
X-MICROSOFT-CDO-ALLDAYEVENT:FALSE
SUMMARY:Winterfest
DESCRIPTION:Please help support the Parent Center! WE HAVE BEEN CHOSEN as the recipient for funds raised from the bake sale at the upcoming Winterfest-Would you PLEASE BAKE to help the parent center?\n\nCall 456-0007 or email Melissa: mpraus@dpsnd.org
X-ALT-DESC;FMTTYPE=text/html:Please help support the Parent Center!<u><strong> WE HAVE BEEN CHOSEN</strong></u> as the recipient for funds raised from the bake sale at the upcoming Winterfest-Would you PLEASE BAKE to help the parent center?<br />\nCall 456-0007 or email Melissa: mpraus@dpsnd.org<br />\n&nbsp\;
LOCATION:
UID:e.2594.4330
SEQUENCE:3
DTSTAMP:20260419T193647Z
URL:https://business.dickinsonchamber.org/events/details/winterfest-4330
END:VEVENT

END:VCALENDAR
