BEGIN:VCALENDAR
VERSION:2.0
PRODID:-//ChamberMaster//Event Calendar 2.0//EN
METHOD:PUBLISH
X-PUBLISHED-TTL:P3D
REFRESH-INTERVAL:P3D
CALSCALE:GREGORIAN
BEGIN:VEVENT
DTSTART:20230117T200000Z
DTEND:20230117T230000Z
X-MICROSOFT-CDO-ALLDAYEVENT:FALSE
SUMMARY:Workforce Development
DESCRIPTION:
X-ALT-DESC;FMTTYPE=text/html:
LOCATION:Virtual
UID:e.2594.4469
SEQUENCE:3
DTSTAMP:20260419T210345Z
URL:https://business.dickinsonchamber.org/events/details/workforce-development-4469
END:VEVENT

END:VCALENDAR
